Workbook
Name ACTIVIDAD: INICIO!$A$640:$A$660
Name ACTIVOr1: 'Resumen Balance'!$E$8:$G$17
Name analisisbalances: INICIO!$A$418:$A$420
Name añobalance: 'Resumen Balance'!$I$6:$M$6
Name arribaa2: '20Ratios'!$A$3:$A$59
Name ARRIBAAR: Análisis!$A$3:$A$76
Name arribaDATOS: DATOS!$A$6:$A$47
Name arribaR1: 'Resumen Balance'!$A$3:$A$122
Name arribaR2: 'Resumen Ratios'!$A$3:$A$134
Name balance: SB!$J$5:$J$10
Name balances: INICIO!$A$453:$A$489
Name circulante: SB!$F$6:$F$11
Name datosbalances: INICIO!$A$851:$A$973
Name FLUJOSCAJA: INICIO!$A$576:$A$581
Name fondomaniobra: INICIO!$A$534:$A$632
Name GARANTIA: INICIO!$A$466:$A$578
Name info1: INICIO!$A$184:$A$264
Name info1a: INICIO!$A$902:$A$916
Name iniciohoja: INICIO!$A$1:$A$60
Name inmovilizado: SB!$D$6:$D$9
Name liquidez: INICIO!$A$355:$A$480
Name nota: INICIO!$A$510:$A$535
Name objetivosab: INICIO!$A$255:$A$284
Name otrosdatos: INICIO!$A$900:$A$901
Name pasivocorriente: SB!$D$18:$D$23
Name pasivonocorriente: SB!$D$18:$D$23
Name PASIVONONCURRENT: SB!$F$18:$F$21
Name patrimonion: SB!$H$6:$H$9
Name periodo: SB!$B$8:$B$25
Name productividad: INICIO!$A$696:$A$706
Name PUBLICIDAD1: INICIO!$A$713:$A$772
Name RENTABILIDAD: INICIO!$A$581:$A$702
Name rotations: INICIO!$A$637:$A$869
Name solvencia: INICIO!$A$408:$A$503
Name versionlibre: INICIO!$A$225:$A$256

Sheet INICIO
C3: ANÁLISIS FINANCIERO FÁCIL
C5: Denominación : | E5: Mi Empresa | H5: Año más reciente : | J5: =$D$14 -> 2020
C6: Notas | D6: ESTA HOJA QUE NO REALIZA CÁLCULOS NO ES MODIFICABLE, PUEDES OCULTARLA O ELIMINARLA.
D14: 2020
A16: =TODAY() -> 45936
C185: Información
C187: Este libro tiene como objetivo facilitar al máximo el análisis de los balances de una empresa
C188: Sus contenidos y explicaciones han sido elaborados desde una perspectiva práctica, nos hemos esforzado en usar
C189: un lenguaje no técnico, con el objetivo de lograr una mayor comprensión de los conceptos por parte de los
C190: usuarios cuya finalidad es usarlos en la vida cotidiana de su empresa.
C191: Por todo ello, es posible que los expertos hallen en nuestros comentarios algunas imperfecciones conceptuales,
C192: les pedimos disculpas y agradeceremos cualquier sugerencia que se nos haga al respecto.
D194: Muchas gracias por vuestra confianza,
E195: Los autores
C199: Recomendaciones
D201: Recomendaciones para el uso del libro:
D202: ● Pon tus datos en la hoja DATOS, tiene tres secciones numeradas del 1 al 3 (scroll abajo).
D203: ● Una vez hecho lo anterior y con los datos completos, informes, ratios y gráficos se autogenerarán en
D204: las hojas siguientes.
D206: Ten en cuenta:
D207: ● Puedes analizar desde un solo balance hasta un máximo de 5, no es preciso incluir datos en todas
D208: las columnas. Usa sólo las que precises.
D209: ● No es obligatorio incluir todos los datos (aunque siempre es lo mejor), la hoja calculará los ratios que
D210: pueda en función de los datos incluidos.
D211: ● En ESTA versión libre: El libro es totalmente* adaptable y modificable, todas las fórmulas son fácilmente
D212: accesibles y la mayoría han sido agrupadas en una hoja oculta (Calc1) para facilitar el trabajo. Para cambiar o
D213: verificar las fórmulas sólo tienes que mostrar dicha hoja.
... D223: * Excepto ésta y la hoja SB (que no afectan de modo relevante a la programación y pueden ser ocultadas)
C225: Producto y derechos
C227: El usuario de este libro para Excel© puede usarlo, modificarlo o copiarlo cuanto desee para su uso
C228: personal o profesional, puede distribuir cuantas copias quiera pero no puede comerciar con él,
C229: usarlo con fines comerciales o arrogarse su autoría.
C231: © versión en español: e.ditor consulting s.l. y los autores
C232: Producto: PE169GUv12 Análisis Financiero Fácil
C235: Si deseas más información:
C236: Contactar con los autores: info@e.ditor.com
C237: Dudas, consultas o asistencia: atencion@e.ditor.com
C240: Excel© es una marca registrada de Microsoft Corporation
C242: Garantía
C244: Si tienes alguna sugerencia, comentario o detectas algún error en este producto,
...

Sheet DATOS
C3: DATOS DE LOS BALANCES
G4: =IF(H4="","","El Balance") -> El Balance | H4: =IF(H6=0,"",IF(H24=H63,"CUADRA","NO CUADRA")) -> CUADRA | I4: =IF(I6=0,"",IF(I24=I63,"CUADRA","NO CUADRA")) -> CUADRA | J4: =IF(J6=0,"",IF(J24=J63,"CUADRA","NO CUADRA")) | K4: =IF(K6=0,"",IF(K24=K63,"CUADRA","NO CUADRA")) | L4: =IF(L6=0,"",IF(L24=L63,"CUADRA","NO CUADRA"))
C5: 1 | D5: ACTIVO | H5: =INICIO!$J$5 -> 2020 | I5: =INICIO!J5-1 -> 2019 | J5: =I5-1 -> 2018 | K5: =J5-1 -> 2017 | L5: =K5-1 -> 2016
D6: A- ACTIVO NO CORRIENTE / ACTIVO FIJO | H6: =SUM(H7:H12) -> 550000 | I6: =SUM(I7:I12) -> 550000 | J6: =SUM(J7:J12) -> 0 | K6: =SUM(K7:K12) -> 0 | L6: =SUM(L7:L12) -> 0
D7: I. Inmovilizado intangible. | H7: 100000 | I7: 100000
D8: II. Inmovilizado material. | H8: 100000 | I8: 100000
D9: III. Inversiones inmobiliarias. | H9: 100000 | I9: 100000
D10: IV. Inversiones en empresas del grupo y asociadas a largo plazo | H10: 75000 | I10: 75000
D11: V. Inversiones financieras a largo plazo. | H11: 75000 | I11: 75000
D12: VI. Activos por impuesto diferido. | H12: 100000 | I12: 100000
D13: B - ACTIVO CORRIENTE /ACTIVO CIRCULANTE | H13: =SUM(H14:H16)+SUM(H20:H23) -> 1110000 | I13: =SUM(I14:I16)+SUM(I20:I23) -> 1210000 | J13: =SUM(J14:J16)+SUM(J20:J23) -> 0 | K13: =SUM(K14:K16)+SUM(K20:K23) -> 0 | L13: =SUM(L14:L16)+SUM(L20:L23) -> 0
D14: I. Activos no corrientes mantenidos para la venta. | H14: 80000 | I14: 80000
D15: II. Existencias. | H15: 80000 | I15: 80000
D16: III. Deudores comerciales y otras cuentas a cobrar. | H16: =SUM(H17:H19) -> 450000 | I16: =SUM(I17:I19) -> 450000 | J16: =SUM(J17:J19) -> 0 | K16: =SUM(K17:K19) -> 0 | L16: =SUM(L17:L19) -> 0
D17: 1. Clientes por ventas y prestaciones de servicios | H17: 150000 | I17: 150000
D18: 2. Accionistas (socios) por desembolsos exigidos | H18: 150000 | I18: 150000
D19: 3. Otros deudores. | H19: 150000 | I19: 150000
D20: IV. Inversiones en empresas del grupo y asociadas a corto plazo | H20: 100000 | I20: 150000
D21: V. Inversiones financieras a corto plazo. | H21: 100000 | I21: 150000
D22: VI. Periodificaciones a corto plazo. | H22: 150000 | I22: 150000
D23: VII. Efectivo y otros activos líquidos equivalentes. | H23: 150000 | I23: 150000
D24: Total Activo | H24: =+H6+H13 -> 1660000 | I24: =+I6+I13 -> 1760000 | J24: =+J6+J13 -> 0 | K24: =+K6+K13 -> 0 | L24: =+L6+L13 -> 0
C26: 2 | D26: PATRIMONIO NETO Y PASIVO | H26: =INICIO!J5 -> 2020 | I26: =I5 -> 2019 | J26: =J5 -> 2018 | K26: =K5 -> 2017 | L26: =L5 -> 2016
D27: A) PATRIMONIO NETO | H27: =SUM(H32:H41)+H29 -> 1025000 | I27: =SUM(I32:I41)+I29 -> 1165000 | J27: =SUM(J32:J41)+J29 -> 0 | K27: =SUM(K32:K41)+K29 -> 0 | L27: =SUM(L32:L41)+L29 -> 0
D28: A-1) Fondos propios.
D29: I. Capital. | H29: =SUM(H30:H31) -> 445000 | I29: =SUM(I30:I31) -> 585000 | J29: =SUM(J30:J31) -> 0 | K29: =SUM(K30:K31) -> 0 | L29: =SUM(L30:L31) -> 0
D30: 1. Capital escriturado. | H30: 320000 | I30: 485000
D31: 2. (Capital no exigido). | H31: 125000 | I31: 100000
D32: II. Prima de emisión. | H32: 75000 | I32: 75000
D33: III. Reservas. | H33: 75000 | I33: 75000
D34: IV. (Acciones y participaciones en patrimonio propias). | H34: 75000 | I34: 75000
D35: V. Resultados de ejercicios anteriores. | H35: 75000 | I35: 75000
D36: VI. Otras aportaciones de socios. | H36: 75000 | I36: 75000
D37: VII. Resultado del ejercicio. | H37: 75000 | I37: 75000
D38: VIII. (Dividendo a cuenta). | H38: 75000 | I38: 75000
D39: IX. Otros instrumentos de patrimonio neto. | H39: 25000 | I39: 25000
D40: A-2) Ajustes por cambios de valor. | H40: 15000 | I40: 15000
D41: A-3) Subvenciones, donaciones y legados recibidos. | H41: 15000 | I41: 15000
D42: B) PASIVO NO CORRIENTE | H42: =SUM(H48:H50)+H44+H43 -> 230000 | I42: =SUM(I48:I50)+I44+I43 -> 190000 | J42: =SUM(J48:J50)+J44+J43 -> 0 | K42: =SUM(K48:K50)+K44+K43 -> 0 | L42: =SUM(L48:L50)+L44+L43 -> 0
D43: I. Provisiones a largo plazo. | H43: 5000 | I43: 5000
...

Sheet Calc1
C1: =INICIO!J5 -> 2020 | D1: =DATOS!I5 -> 2019 | E1: =DATOS!J5 -> 2018 | F1: =DATOS!K5 -> 2017 | G1: =DATOS!L5 -> 2016
B2: ACTIVO
B4: Inmovilizado | C4: =+DATOS!H7+DATOS!H8 -> 200000 | D4: =+DATOS!I7+DATOS!I8 -> 200000 | E4: =+DATOS!J7+DATOS!J8 -> 0 | F4: =+DATOS!K7+DATOS!K8 -> 0 | G4: =+DATOS!L7+DATOS!L8 -> 0
B5: Inversiones | C5: =+DATOS!H9+DATOS!H10+DATOS!H11 -> 250000 | D5: =+DATOS!I9+DATOS!I10+DATOS!I11 -> 250000 | E5: =+DATOS!J9+DATOS!J10+DATOS!J11 -> 0 | F5: =+DATOS!K9+DATOS!K10+DATOS!K11 -> 0 | G5: =+DATOS!L9+DATOS!L10+DATOS!L11 -> 0
B6: Impuestos diferidos | C6: =+DATOS!H12 -> 100000 | D6: =+DATOS!I12 -> 100000 | E6: =+DATOS!J12 -> 0 | F6: =+DATOS!K12 -> 0 | G6: =+DATOS!L12 -> 0
B7: ACTIVO FIJO | C7: =SUM(C4:C6) -> 550000 | D7: =SUM(D4:D6) -> 550000 | E7: =SUM(E4:E6) -> 0 | F7: =SUM(F4:F6) -> 0 | G7: =SUM(G4:G6) -> 0
B9: Existencias | C9: =+DATOS!H15+DATOS!H14 -> 160000 | D9: =+DATOS!I15+DATOS!I14 -> 160000 | E9: =+DATOS!J15+DATOS!J14 -> 0 | F9: =+DATOS!K15+DATOS!K14 -> 0 | G9: =+DATOS!L15+DATOS!L14 -> 0
B10: Clientes | C10: =+DATOS!H17 -> 150000 | D10: =+DATOS!I17 -> 150000 | E10: =+DATOS!J17 -> 0 | F10: =+DATOS!K17 -> 0 | G10: =+DATOS!L17 -> 0
B11: Inversiones | C11: =+DATOS!H18+DATOS!H19 -> 300000 | D11: =+DATOS!I18+DATOS!I19 -> 300000 | E11: =+DATOS!J18+DATOS!J19 -> 0 | F11: =+DATOS!K18+DATOS!K19 -> 0 | G11: =+DATOS!L18+DATOS!L19 -> 0
B12: Otras cuentas | C12: =+DATOS!H20+DATOS!H21 -> 200000 | D12: =+DATOS!I20+DATOS!I21 -> 300000 | E12: =+DATOS!J20+DATOS!J21 -> 0 | F12: =+DATOS!K20+DATOS!K21 -> 0 | G12: =+DATOS!L20+DATOS!L21 -> 0
B13: Periodificaciones | C13: =+DATOS!H22 -> 150000 | D13: =+DATOS!I22 -> 150000 | E13: =+DATOS!J22 -> 0 | F13: =+DATOS!K22 -> 0 | G13: =+DATOS!L22 -> 0
B14: Efectivo y otros liq. | C14: =+DATOS!H23 -> 150000 | D14: =+DATOS!I23 -> 150000 | E14: =+DATOS!J23 -> 0 | F14: =+DATOS!K23 -> 0 | G14: =+DATOS!L23 -> 0
B15: CIRCULANTE | C15: =SUM(C9:C14) -> 1110000 | D15: =SUM(D9:D14) -> 1210000 | E15: =SUM(E9:E14) -> 0 | F15: =SUM(F9:F14) -> 0 | G15: =SUM(G9:G14) -> 0
B16: EXISTENCIAS | C16: =+C9 -> 160000 | D16: =+D9 -> 160000 | E16: =+E9 -> 0 | F16: =+F9 -> 0 | G16: =+G9 -> 0
B17: REALIZABLE | C17: =+C13+C12+C10+C11 -> 800000 | D17: =+D13+D12+D10+D11 -> 900000 | E17: =+E13+E12+E10+E11 -> 0 | F17: =+F13+F12+F10+F11 -> 0 | G17: =+G13+G12+G10+G11 -> 0
B18: DISPONIBLE | C18: =+C14 -> 150000 | D18: =+D14 -> 150000 | E18: =+E14 -> 0 | F18: =+F14 -> 0 | G18: =+G14 -> 0
B19: TOTAL ACTIVO
C20: =+C15+C7 -> 1660000 | D20: =+D15+D7 -> 1760000 | E20: =+E15+E7 -> 0 | F20: =+F15+F7 -> 0 | G20: =+G15+G7 -> 0
B22: PATRIMONIO NETO
B23: Capital | C23: =+DATOS!H30+DATOS!H31 -> 445000 | D23: =+DATOS!I30+DATOS!I31 -> 585000 | E23: =+DATOS!J30+DATOS!J31 -> 0 | F23: =+DATOS!K30+DATOS!K31 -> 0 | G23: =+DATOS!L30+DATOS!L31 -> 0
B24: Otros FP | C24: =+DATOS!H32+DATOS!H33+DATOS!H34+DATOS!H35+DATOS!H36+DATOS!H37+DATOS!H38+DATOS!H39+DATOS!H41 -> 565000 | D24: =+DATOS!I32+DATOS!I33+DATOS!I34+DATOS!I35+DATOS!I36+DATOS!I37+DATOS!I38+DATOS!I39+DATOS!I41 -> 565000 | E24: =+DATOS!J32+DATOS!J33+DATOS!J34+DATOS!J35+DATOS!J36+DATOS!J37+DATOS!J38+DATOS!J39+DATOS!J41 -> 0 | F24: =+DATOS!K32+DATOS!K33+DATOS!K34+DATOS!K35+DATOS!K36+DATOS!K37+DATOS!K38+DATOS!K39+DATOS!K41 -> 0 | G24: =+DATOS!L32+DATOS!L33+DATOS!L34+DATOS!L35+DATOS!L36+DATOS!L37+DATOS!L38+DATOS!L39+DATOS!L41 -> 0
B25: Ajustes | C25: =+DATOS!H40 -> 15000 | D25: =+DATOS!I40 -> 15000 | E25: =+DATOS!J40 -> 0 | F25: =+DATOS!K40 -> 0 | G25: =+DATOS!L40 -> 0
B26: PAT. NETO | C26: =SUM(C23:C25) -> 1025000 | D26: =SUM(D23:D25) -> 1165000 | E26: =SUM(E23:E25) -> 0 | F26: =SUM(F23:F25) -> 0 | G26: =SUM(G23:G25) -> 0
B28: EXIGIBLE A LARGO PLAZO
B29: Provisiones | C29: =+DATOS!H43 -> 5000 | D29: =+DATOS!I43 -> 5000 | E29: =+DATOS!J43 -> 0 | F29: =+DATOS!K43 -> 0 | G29: =+DATOS!L43 -> 0
B30: Préstamos largo pl. | C30: =+DATOS!H45+DATOS!H46 -> 50000 | D30: =+DATOS!I45+DATOS!I46 -> 50000 | E30: =+DATOS!J45+DATOS!J46 -> 0 | F30: =+DATOS!K45+DATOS!K46 -> 0 | G30: =+DATOS!L45+DATOS!L46 -> 0
B31: Otras deudas | C31: =+DATOS!H47+DATOS!H48 -> 75000 | D31: =+DATOS!I47+DATOS!I48 -> 55000 | E31: =+DATOS!J47+DATOS!J48 -> 0 | F31: =+DATOS!K47+DATOS!K48 -> 0 | G31: =+DATOS!L47+DATOS!L48 -> 0
B32: Peridificaciones-i.d. | C32: =+DATOS!H49+DATOS!H50 -> 100000 | D32: =+DATOS!I49+DATOS!I50 -> 80000 | E32: =+DATOS!J49+DATOS!J50 -> 0 | F32: =+DATOS!K49+DATOS!K50 -> 0 | G32: =+DATOS!L49+DATOS!L50 -> 0
B33: EXIGIBLE A LARGO PLAZO | C33: =SUM(C29:C32) -> 230000 | D33: =SUM(D29:D32) -> 190000 | E33: =SUM(E29:E32) -> 0 | F33: =SUM(F29:F32) -> 0 | G33: =SUM(G29:G32) -> 0
B35: EXIGIBLE A CORTO PLAZO
B36: Provisiones | C36: =+DATOS!H53 -> 50000 | D36: =+DATOS!I53 -> 50000 | E36: =+DATOS!J53 -> 0 | F36: =+DATOS!K53 -> 0 | G36: =+DATOS!L53 -> 0
B37: Préstamos corto pl. | C37: =+DATOS!H55+DATOS!H56 -> 50000 | D37: =+DATOS!I55+DATOS!I56 -> 75000 | E37: =+DATOS!J55+DATOS!J56 -> 0 | F37: =+DATOS!K55+DATOS!K56 -> 0 | G37: =+DATOS!L55+DATOS!L56 -> 0
B38: Otras deudas corto | C38: =+DATOS!H52+DATOS!H57 -> 75000 | D38: =+DATOS!I52+DATOS!I57 -> 75000 | E38: =+DATOS!J52+DATOS!J57 -> 0 | F38: =+DATOS!K52+DATOS!K57 -> 0 | G38: =+DATOS!L52+DATOS!L57 -> 0
B39: Proveedores | C39: =+DATOS!H60 -> 75000 | D39: =+DATOS!I60 -> 75000 | E39: =+DATOS!J60 -> 0 | F39: =+DATOS!K60 -> 0 | G39: =+DATOS!L60 -> 0
B40: Otras cuentas pagar | C40: =+DATOS!H61+DATOS!H58 -> 105000 | D40: =+DATOS!I61+DATOS!I58 -> 105000 | E40: =+DATOS!J61+DATOS!J58 -> 0 | F40: =+DATOS!K61+DATOS!K58 -> 0 | G40: =+DATOS!L61+DATOS!L58 -> 0
B41: Periodificaciones | C41: =+DATOS!H62 -> 50000 | D41: =+DATOS!I62 -> 25000 | E41: =+DATOS!J62 -> 0 | F41: =+DATOS!K62 -> 0 | G41: =+DATOS!L62 -> 0
B42: EXIGIBLE A CORTO PLAZO | C42: =SUM(C36:C41) -> 405000 | D42: =SUM(D36:D41) -> 405000 | E42: =SUM(E36:E41) -> 0 | F42: =SUM(F36:F41) -> 0 | G42: =SUM(G36:G41) -> 0
B44: TOTAL PASIVOS | C44: =+C42+C33 -> 635000 | D44: =+D42+D33 -> 595000 | E44: =+E42+E33 -> 0 | F44: =+F42+F33 -> 0 | G44: =+G42+G33 -> 0
B45: TOT PN+ PASIVO
B46: TOT PN+ PASIVO | C46: =+C44+C26 -> 1660000 | D46: =+D44+D26 -> 1760000 | E46: =+E44+E26 -> 0 | F46: =+F44+F26 -> 0 | G46: =+G44+G26 -> 0
...

Sheet Análisis
K2: ANÁLISIS de 4 PUNTOS | L2: =IF(F4=0,"","Referidos al Balance del") -> Referidos al Balance del | P2: =$F$4 -> 2020
E4: Balance a analizar | F4: =INICIO!$J$5 -> 2020 | G4: =IF(F4=0,"◄ Pon el balance que quieres analizar (lista)","") | N4: =$E$20
J6: Análisis rápido de 4 puntos clave
C7: 1 | D7: ACTIVO
E8: ='Resumen Balance'!$E$8 -> TOTAL ACTIVO | F8: =SUMIF(añobalance,$F$4,'Resumen Balance'!I8:M8) -> 1660000
E9: ='Resumen Balance'!$E$9 -> Activo FIJO | F9: =SUMIF(añobalance,$F$4,'Resumen Balance'!I9:M9) -> 550000 | G9: =IF(F$8=0,0,F9/F$8) -> 0.3313253 | J9: 1- LIQUIDEZ | N9: 3- ENDEUDAMIENTO
E10: ='Resumen Balance'!$E$11 -> Activo CIRCULANTE | F10: =SUMIF(añobalance,$F$4,'Resumen Balance'!I11:M11) -> 1110000 | G10: =IF(F$8=0,0,F10/F$8) -> 0.6686747 | J10: =IF(K10>0,"El circulante es","") -> El circulante es | K10: =$G$328 -> 2.7407407 | L10: =IF(K10>0,"veces el exigible a corto","") -> veces el exigible a corto | N10: =IF(O10>0,"Tiene un ratio","") -> Tiene un ratio | O10: =SUMIF('Resumen Ratios'!$I$6:$M$6,$F$4,'Resumen Ratios'!I22:M22) -> 0.6195122 | P10: =IF(O10>0,"(ratio ENDEUDAMIENTO)","") -> (ratio ENDEUDAMIENTO)
E11: ='Resumen Balance'!$E$12 -> Existencias | F11: =SUMIF(añobalance,$F$4,'Resumen Balance'!I12:M12) -> 160000 | G11: =IF(F$8=0,0,F11/F$8) -> 0.096385542 | J11: =IF(K10=0,0,IF(G328<=F331,G331,IF(G328>=F332,G332,G330))) -> Atención, parece EXCESIVO. | N11: =IF(O10=0,0,IF(G346>=F348,G348,IF(G346<=F349,G349,G347))) -> Atención, parece POCO.
E12: ='Resumen Balance'!$E$14 -> Realizable | F12: =SUMIF(añobalance,$F$4,'Resumen Balance'!I14:M14) -> 800000 | G12: =IF(F$8=0,0,F12/F$8) -> 0.48192771 | J12: =IF(K12>0,"El R + D es","") -> El R + D es | K12: =$G$335 -> 2.345679 | L12: =IF(K12>0,"veces el exigible a corto","") -> veces el exigible a corto | N12: =IF(N11=0,0,"Analizar ratios endeudamiento (ir a 20 Ratios)") -> Analizar ratios endeudamiento (ir a 20 Ratios)
E13: ='Resumen Balance'!$E$16 -> Disponible | F13: =SUMIF(añobalance,$F$4,'Resumen Balance'!I16:M16) -> 150000 | G13: =IF(F$8=0,0,F13/F$8) -> 0.090361446 | J13: =IF(K12=0,0,IF(G335<=F338,G338,IF(G335>=F339,G339,G337))) -> Atención, parece EXCESIVO.
J14: =IF(J13=0,0,"Analizar los ratios de liquidez (hoja 20 ratios)") -> Analizar los ratios de liquidez (hoja 20 ratios)
C15: 2 | D15: Patrimonio Neto y PASIVO
E16: ='Resumen Balance'!E21 -> TOTAL | F16: =SUMIF(añobalance,$F$4,'Resumen Balance'!I21:M21) -> 1660000 | J16: 2- CAPITALIZACIÓN | N16: 4- GARANTÍA
E17: ='Resumen Balance'!E22 -> PATRIMONIO NETO | F17: =SUMIF(añobalance,$F$4,'Resumen Balance'!I22:M22) -> 1025000 | G17: =IF(F$16=0,0,F17/F$16) -> 0.61746988 | J17: =IF(K17>0,"El P. Neto es el","") -> El P. Neto es el | K17: =$G$341 -> 0.61746988 | L17: =IF(K17>0,"del total (PN + PASIVO)","") -> del total (PN + PASIVO) | N17: =IF(O17>0,"Tiene un ratio","") -> Tiene un ratio | O17: =SUMIF('Resumen Ratios'!$I$6:$M$6,$F$4,'Resumen Ratios'!I8:M8) -> 0.70866142 | P17: =IF(O17>0,"(ratio GARANTÍA)","") -> (ratio GARANTÍA)
E18: ='Resumen Balance'!$E$26 -> Pasivo LARGO PLAZO | F18: =SUMIF(añobalance,$F$4,'Resumen Balance'!I26:M26) -> 230000 | G18: =IF(F$16=0,0,F18/F$16) -> 0.13855422 | J18: =IF(K17=0,0,IF(G341<=F343,G343,IF(G341>=F344,G344,G342))) -> Atención, parece EXCESIVO. | N18: =IF(O17=0,0,IF(G351<=F353,G353,G352)) -> Precaución, parece INSUFICIENTE
E19: ='Resumen Balance'!$E$28 -> Pasivo CORTO PLAZO | F19: =SUMIF(añobalance,$F$4,'Resumen Balance'!I28:M28) -> 405000 | G19: =IF(F$16=0,0,F19/F$16) -> 0.2439759 | J19: =IF(J18=0,0,"Analizar los ratios del resumen 1") -> Analizar los ratios del resumen 1 | N19: =IF(N18=0,0,"Analizar los ratios de garantía (hoja 20 Ratios)") -> Analizar los ratios de garantía (hoja 20 Ratios)
E20: =+H325
E324: parámetros de análisis - NO BORRAR
E325: cuadre del balance | F325: =ROUND(F8,0) -> 1660000 | G325: =ROUND(F16,0) -> 1660000 | H325: =IF(F325=G325,"","EL BALANCE NO CUADRA")
E327: comparación circulantes | G327: ratio
E328: activo | F328: =+F10 -> 1110000 | G328: =IF(F329=0,0,F328/F329) -> 2.7407407
E329: pasivo | F329: =+F19 -> 405000
E330: RATIO CORRECTO: | F330: 2 | G330: Parece CORRECTO.
E331: ALARMA POR DEBAJO: | F331: 1.8 | G331: Precaución, parece INSUFICIENTE
E332: ALARMA POR ENCIMA: | F332: 2.2 | G332: Atención, parece EXCESIVO.
E334: análisis DISPONIBILIDAD | G334: ratio
E335: Realizable más disponible | F335: =+F12+F13 -> 950000 | G335: =IF(F336=0,0,F335/F336) -> 2.345679
E336: Exigible corto plazo | F336: =+F329 -> 405000
E337: RATIO CORRECTO: | F337: 1 | G337: Parece CORRECTO.
E338: ALARMA POR DEBAJO: | F338: 0.95 | G338: Precaución, parece INSUFICIENTE
E339: ALARMA POR ENCIMA: | F339: 1.1 | G339: Atención, parece EXCESIVO.
G340: ratio
E341: análisis CAPITALIZACIÓN | G341: =$G$17 -> 0.61746988
E342: CORRECTO | F342: 40-50% | G342: Parece CORRECTO.
E343: ALARMA POR DEBAJO: | F343: 0.39 | G343: Precaución, parece INSUFICIENTE
E344: ALARMA POR ENCIMA: | F344: 0.51 | G344: Atención, parece EXCESIVO.
G345: ratio
E346: análisis ENDEUDAMIENTO | G346: =$O$10 -> 0.6195122
E347: CORRECTO | F347: 1 | G347: Parece CORRECTO.
E348: Demasiado endeudamiento | F348: 1.1 | G348: Precaución, parece EXCESIVO
...

Sheet Hoja1
B5: Para gráfico balance - NO BORRAR NI OCULTAR
C6: Activo | D6: F.Maniobra | E6: PN y Pasivo | G6: activo circulante total | I6: =Análisis!$F$10 -> 1110000
B7: Circulante | C7: =I6/1000 -> 1110 | D7: =E7 -> 405 | E7: =I7/1000 -> 405 | G7: pasivo circulante total | I7: =Análisis!$F$19 -> 405000
B8: Fijo | C8: =I8/1000 -> 550 | E8: =I9/1000 -> 1255 | G8: ACTIVO FIJO Total | I8: =Análisis!$F$9 -> 550000
B9: Fondo Maniobra | D9: =+C7-E7 -> 705 | G9: Pat. Neto + Pasivo LP (Fijo) | I9: =Análisis!F17+Análisis!F18 -> 1255000

Sheet 20Ratios
C2: ANÁLISIS 20 RATIOS
D4: Período | E4: =INICIO!J5 -> 2020 | F4: =DATOS!I5 -> 2019 | G4: =DATOS!J5 -> 2018 | H4: =DATOS!K5 -> 2017 | I4: =DATOS!L5 -> 2016 | L4: Criterio general para el análisis (tomarlo con precaución)
C6: 1 | D6: RENTABILIDAD
D7: Rentabilidad Financiera | E7: =Calc1!C78 -> 0.24390244 | F7: =Calc1!D78 -> 0.17167382 | G7: =Calc1!E78 -> 0 | H7: =Calc1!F78 -> 0 | I7: =Calc1!G78 -> 0 | L7: % Rentabilidad neta sobre recursos propios (PN).
D8: Rentabilidad Económica | E8: =Calc1!C79 -> 0.15060241 | F8: =Calc1!D79 -> 0.11363636 | G8: =Calc1!E79 -> 0 | H8: =Calc1!F79 -> 0 | I8: =Calc1!G79 -> 0 | L8: % Rentabilidad neta sobre total activos.
D9: Rentabilidad del Capital | E9: =Calc1!C80 -> 0.56179775 | F9: =Calc1!D80 -> 0.34188034 | G9: =Calc1!E80 -> 0 | H9: =Calc1!F80 -> 0 | I9: =Calc1!G80 -> 0 | L9: % Rentabilidad neta sobre el capital social.
D10: Rentabilidad de las Ventas | E10: =Calc1!C81 -> 0.71428571 | F10: =Calc1!D81 -> 0.66666667 | G10: =Calc1!E81 -> 0 | H10: =Calc1!F81 -> 0 | I10: =Calc1!G81 -> 0 | L10: % Rentabilidad neta sobre total ventas.
C12: 2 | D12: FONDO de MANIOBRA (Capital de trabajo)
D13: Fondo de Maniobra | E13: =Calc1!C54 -> 705000 | F13: =Calc1!D54 -> 805000 | G13: =Calc1!E54 -> 0 | H13: =Calc1!F54 -> 0 | I13: =Calc1!G54 -> 0 | L13: Diferencia entre el circulante y el exigible al corto. Siempre debe ser positivo.
D14: Ratio Fondo Maniobra | E14: =Calc1!C60 -> 1.7407407 | F14: =Calc1!D60 -> 1.9876543 | G14: =Calc1!E60 -> 0 | H14: =Calc1!F60 -> 0 | I14: =Calc1!G60 -> 0 | L14: Proporción de FdM respecto al exigible al corto. En general 0,5 es aceptable.
D15: Ratio FdM en días | E15: =Calc1!C61 -> 725.14286 | F15: =Calc1!D61 -> 966 | G15: =Calc1!E61 -> 0 | H15: =Calc1!F61 -> 0 | I15: =Calc1!G61 -> 0 | L15: Días que tarda en regenerarse el FdM con las ventas. Cuanto menos mejor.
C17: 3 | D17: LIQUIDEZ
D18: Liquidez | E18: =Calc1!C56 -> 2.7407407 | F18: =Calc1!D56 -> 2.9876543 | G18: =Calc1!E56 -> 0 | H18: =Calc1!F56 -> 0 | I18: =Calc1!G56 -> 0 | L18: Compara circulante con exigible a corto. En general: lejos de 1 (cercano a 2).
D19: Tesorería (Acid Test) | E19: =Calc1!C57 -> 2.345679 | F19: =Calc1!D57 -> 2.5925926 | G19: =Calc1!E57 -> 0 | H19: =Calc1!F57 -> 0 | I19: =Calc1!G57 -> 0 | L19: Compara el disponible mas el realizable con el ex. Corto. En general cerca 1.
D20: Disponibilidad | E20: =Calc1!C58 -> 0.37037037 | F20: =Calc1!D58 -> 0.37037037 | G20: =Calc1!E58 -> 0 | H20: =Calc1!F58 -> 0 | I20: =Calc1!G58 -> 0 | L20: Compara el disponible con el exigible al corto. En general: En torno a 0,3.
C22: 4 | D22: ENDEUDAMIENTO y autonomía
D23: Endeudamiento | E23: =Calc1!C63 -> 0.6195122 | F23: =Calc1!D63 -> 0.51072961 | G23: =Calc1!E63 -> 0 | H23: =Calc1!F63 -> 0 | I23: =Calc1!G63 -> 0 | L23: Compara las deudas con los capitales propios. En general: No mayor que 1.
D24: Endeud. Corto Plazo | E24: =Calc1!C64 -> 0.39512195 | F24: =Calc1!D64 -> 0.34763948 | G24: =Calc1!E64 -> 0 | H24: =Calc1!F64 -> 0 | I24: =Calc1!G64 -> 0 | L24: Compara las deudas a corto con los capitales propios. Cuanto menor, mejor.
D25: Autonomía | E25: =Calc1!C65 -> 1.6141732 | F25: =Calc1!D65 -> 1.9579832 | G25: =Calc1!E65 -> 0 | H25: =Calc1!F65 -> 0 | I25: =Calc1!G65 -> 0 | L25: Similar al de endeudamiento, compara capitales propios con deudas totales
C27: 5 | D27: GARANTÍA y estabilidad
D28: Garantía | E28: =Calc1!C67 -> 0.70866142 | F28: =Calc1!D67 -> 0.75630252 | G28: =Calc1!E67 -> 0 | H28: =Calc1!F67 -> 0 | I28: =Calc1!G67 -> 0 | L28: Compara el activo real con el total de las deudas. En general 1,5, no menor.
D29: Consistencia | E29: =Calc1!C68 -> 2.3913043 | F29: =Calc1!D68 -> 2.8947368 | G29: =Calc1!E68 -> 0 | H29: =Calc1!F68 -> 0 | I29: =Calc1!G68 -> 0 | L29: Compara el activo fijo con las deudas a largo plazo. En general 2.
D30: Estabilidad | E30: =Calc1!C69 -> 0.43824701 | F30: =Calc1!D69 -> 0.40590406 | G30: =Calc1!E69 -> 0 | H30: =Calc1!F69 -> 0 | I30: =Calc1!G69 -> 0 | L30: Compara el activo fijo con los recursos permanentes. En general: menor de 1.
C32: 6 | D32: ROTACIÓN ACTIVOS y días pago/cobro
D33: Rotación activo | E33: =Calc1!C86 -> 0.21084337 | F33: =Calc1!D86 -> 0.17045455 | G33: =Calc1!E86 -> 0 | H33: =Calc1!F86 -> 0 | I33: =Calc1!G86 -> 0 | L33: Compara el activo con las ventas. Cuanto más alto mejor.
D34: Rotación activo fijo | E34: =Calc1!C87 -> 0.63636364 | F34: =Calc1!D87 -> 0.54545455 | G34: =Calc1!E87 -> 0 | H34: =Calc1!F87 -> 0 | I34: =Calc1!G87 -> 0 | L34: Compara las ventas con el activo fijo. Cuanto más alto mejor.
D35: Días cobro clientes | E35: =Calc1!C85 -> 154.28571 | F35: =Calc1!D85 -> 180 | G35: =Calc1!E85 -> 0 | H35: =Calc1!F85 -> 0 | I35: =Calc1!G85 -> 0 | L35: Días que se tarda en cobrar a los clientes. Cuanto menos, mejor.
D36: Días pago proveedores | E36: =Calc1!C84 -> 270 | F36: =Calc1!D84 -> 270 | G36: =Calc1!E84 -> 0 | H36: =Calc1!F84 -> 0 | I36: =Calc1!G84 -> 0 | L36: Días que se tarda en pagar a los proveedores. Cuanto más mejor.

Sheet Resumen Balance
D2: Análisis BÁSICO de los BALANCES
E4: =INICIO!$E$5 -> Mi Empresa | H4: Análisis de los balances
E6: ACTIVO | I6: =INICIO!J5 -> 2020 | J6: =DATOS!I5 -> 2019 | K6: =DATOS!J5 -> 2018 | L6: =DATOS!K5 -> 2017 | M6: =DATOS!L5 -> 2016
E8: TOTAL ACTIVO | I8: =Calc1!C20 -> 1660000 | J8: =Calc1!D20 -> 1760000 | K8: =Calc1!E20 -> 0 | L8: =Calc1!F20 -> 0 | M8: =Calc1!G20 -> 0
E9: Activo FIJO | I9: =Calc1!C7 -> 550000 | J9: =Calc1!D7 -> 550000 | K9: =Calc1!E7 -> 0 | L9: =Calc1!F7 -> 0 | M9: =Calc1!G7 -> 0
E10: % vs. Total | I10: =IF(I$8=0,"",I9/I$8) -> 0.3313253 | J10: =IF(J$8=0,"",J9/J$8) -> 0.3125 | K10: =IF(K$8=0,"",K9/K$8) | L10: =IF(L$8=0,"",L9/L$8) | M10: =IF(M$8=0,"",M9/M$8)
E11: Activo CIRCULANTE | I11: =Calc1!C15 -> 1110000 | J11: =Calc1!D15 -> 1210000 | K11: =Calc1!E15 -> 0 | L11: =Calc1!F15 -> 0 | M11: =Calc1!G15 -> 0
E12: Existencias | I12: =Calc1!C16 -> 160000 | J12: =Calc1!D16 -> 160000 | K12: =Calc1!E16 -> 0 | L12: =Calc1!F16 -> 0 | M12: =Calc1!G16 -> 0
E13: % vs. Total | I13: =IF(I$8=0,"",I12/I$8) -> 0.096385542 | J13: =IF(J$8=0,"",J12/J$8) -> 0.090909091 | K13: =IF(K$8=0,"",K12/K$8) | L13: =IF(L$8=0,"",L12/L$8) | M13: =IF(M$8=0,"",M12/M$8)
E14: Realizable | I14: =Calc1!C17 -> 800000 | J14: =Calc1!D17 -> 900000 | K14: =Calc1!E17 -> 0 | L14: =Calc1!F17 -> 0 | M14: =Calc1!G17 -> 0
E15: % vs. Total | I15: =IF(I$8=0,"",I14/I$8) -> 0.48192771 | J15: =IF(J$8=0,"",J14/J$8) -> 0.51136364 | K15: =IF(K$8=0,"",K14/K$8) | L15: =IF(L$8=0,"",L14/L$8) | M15: =IF(M$8=0,"",M14/M$8)
E16: Disponible | I16: =Calc1!C18 -> 150000 | J16: =Calc1!D18 -> 150000 | K16: =Calc1!E18 -> 0 | L16: =Calc1!F18 -> 0 | M16: =Calc1!G18 -> 0
E17: % vs. Total | I17: =IF(I$8=0,"",I16/I$8) -> 0.090361446 | J17: =IF(J$8=0,"",J16/J$8) -> 0.085227273 | K17: =IF(K$8=0,"",K16/K$8) | L17: =IF(L$8=0,"",L16/L$8) | M17: =IF(M$8=0,"",M16/M$8)
E19: Patrimonio NETO y PASIVO | I19: =I6 -> 2020 | J19: =J6 -> 2019 | K19: =K6 -> 2018 | L19: =L6 -> 2017 | M19: =M6 -> 2016
E21: TOTAL | I21: =Calc1!C46 -> 1660000 | J21: =Calc1!D46 -> 1760000 | K21: =Calc1!E46 -> 0 | L21: =Calc1!F46 -> 0 | M21: =Calc1!G46 -> 0
E22: PATRIMONIO NETO | I22: =Calc1!C26 -> 1025000 | J22: =Calc1!D26 -> 1165000 | K22: =Calc1!E26 -> 0 | L22: =Calc1!F26 -> 0 | M22: =Calc1!G26 -> 0
E23: % vs. Total | I23: =IF(I$21=0,"",I22/I$21) -> 0.61746988 | J23: =IF(J$21=0,"",J22/J$21) -> 0.66193182 | K23: =IF(K$21=0,"",K22/K$21) | L23: =IF(L$21=0,"",L22/L$21) | M23: =IF(M$21=0,"",M22/M$21)
E24: CAPITAL | I24: =Calc1!C23 -> 445000 | J24: =Calc1!D23 -> 585000 | K24: =Calc1!E23 -> 0 | L24: =Calc1!F23 -> 0 | M24: =Calc1!G23 -> 0
E25: % vs. Total | I25: =IF(I$21=0,"",I24/I$21) -> 0.26807229 | J25: =IF(J$21=0,"",J24/J$21) -> 0.33238636 | K25: =IF(K$21=0,"",K24/K$21) | L25: =IF(L$21=0,"",L24/L$21) | M25: =IF(M$21=0,"",M24/M$21)
E26: Pasivo LARGO PLAZO | I26: =Calc1!C33 -> 230000 | J26: =Calc1!D33 -> 190000 | K26: =Calc1!E33 -> 0 | L26: =Calc1!F33 -> 0 | M26: =Calc1!G33 -> 0
E27: % vs. Total | I27: =IF(I$21=0,"",I26/I$21) -> 0.13855422 | J27: =IF(J$21=0,"",J26/J$21) -> 0.10795455 | K27: =IF(K$21=0,"",K26/K$21) | L27: =IF(L$21=0,"",L26/L$21) | M27: =IF(M$21=0,"",M26/M$21)
E28: Pasivo CORTO PLAZO | I28: =Calc1!C42 -> 405000 | J28: =Calc1!D42 -> 405000 | K28: =Calc1!E42 -> 0 | L28: =Calc1!F42 -> 0 | M28: =Calc1!G42 -> 0
E29: % vs. Total | I29: =IF(I$21=0,"",I28/I$21) -> 0.2439759 | J29: =IF(J$21=0,"",J28/J$21) -> 0.23011364 | K29: =IF(K$21=0,"",K28/K$21) | L29: =IF(L$21=0,"",L28/L$21) | M29: =IF(M$21=0,"",M28/M$21)
E32: VARIACIÓN ANUAL | J32: =J6 -> 2019 | K32: =K6 -> 2018 | L32: =L6 -> 2017 | M32: =M6 -> 2016
E34: ACTIVO | J34: =IF(J8=0,0,IF(I$8=0,0,(J8/I$8)-100%)) -> 0.060240964 | K34: =IF(K8=0,0,IF(J$8=0,0,(K8/J$8)-100%)) -> 0 | L34: =IF(L8=0,0,IF(K$8=0,0,(L8/K$8)-100%)) -> 0 | M34: =IF(M8=0,0,IF(L$8=0,0,(M8/L$8)-100%)) -> 0
E35: Activo Fijo | J35: =IF(J9=0,0,IF(I9=0,0,(J9/I9)-100%)) -> 0 | K35: =IF(K9=0,0,IF(J9=0,0,(K9/J9)-100%)) -> 0 | L35: =IF(L9=0,0,IF(K9=0,0,(L9/K9)-100%)) -> 0 | M35: =IF(M9=0,0,IF(L9=0,0,(M9/L9)-100%)) -> 0
E36: Activo Circulante | J36: =IF(J11=0,0,IF(I11=0,0,(J11/I11)-100%)) -> 0.09009009 | K36: =IF(K11=0,0,IF(J11=0,0,(K11/J11)-100%)) -> 0 | L36: =IF(L11=0,0,IF(K11=0,0,(L11/K11)-100%)) -> 0 | M36: =IF(M11=0,0,IF(L11=0,0,(M11/L11)-100%)) -> 0
E37: P.N. y PASIVO | J37: =IF(J21=0,0,IF(I21=0,0,(J21/I21)-100%)) -> 0.060240964 | K37: =IF(K21=0,0,IF(J21=0,0,(K21/J21)-100%)) -> 0 | L37: =IF(L21=0,0,IF(K21=0,0,(L21/K21)-100%)) -> 0 | M37: =IF(M21=0,0,IF(L21=0,0,(M21/L21)-100%)) -> 0
E38: Patrimonio Neto | J38: =IF(J22=0,0,IF(I22=0,0,(J22/I22)-100%)) -> 0.13658537 | K38: =IF(K22=0,0,IF(J22=0,0,(K22/J22)-100%)) -> 0 | L38: =IF(L22=0,0,IF(K22=0,0,(L22/K22)-100%)) -> 0 | M38: =IF(M22=0,0,IF(L22=0,0,(M22/L22)-100%)) -> 0
E39: Pasivo Largo Plazo | J39: =IF(J26=0,0,IF(I26=0,0,(J26/I26)-100%)) -> -0.17391304 | K39: =IF(K26=0,0,IF(J26=0,0,(K26/J26)-100%)) -> 0 | L39: =IF(L26=0,0,IF(K26=0,0,(L26/K26)-100%)) -> 0 | M39: =IF(M26=0,0,IF(L26=0,0,(M26/L26)-100%)) -> 0
E40: Pasivo Corto Plazo | J40: =IF(J28=0,0,IF(I28=0,0,(J28/I28)-100%)) -> 0 | K40: =IF(K28=0,0,IF(J28=0,0,(K28/J28)-100%)) -> 0 | L40: =IF(L28=0,0,IF(K28=0,0,(L28/K28)-100%)) -> 0 | M40: =IF(M28=0,0,IF(L28=0,0,(M28/L28)-100%)) -> 0

Sheet Resumen Ratios
D2: Análisis de RATIOS
E4: =INICIO!$E$5 -> Mi Empresa | I4: Ratios para el análisis
E6: ='20Ratios'!$D$27 -> GARANTÍA y estabilidad | I6: ='Resumen Balance'!I6 -> 2020 | J6: ='Resumen Balance'!J6 -> 2019 | K6: ='Resumen Balance'!K6 -> 2018 | L6: ='Resumen Balance'!L6 -> 2017 | M6: ='Resumen Balance'!M6 -> 2016
E8: ='20Ratios'!D28 -> Garantía | I8: ='20Ratios'!E28 -> 0.70866142 | J8: ='20Ratios'!F28 -> 0.75630252 | K8: ='20Ratios'!G28 -> 0 | L8: ='20Ratios'!H28 -> 0 | M8: ='20Ratios'!I28 -> 0
E9: ='20Ratios'!D29 -> Consistencia | I9: ='20Ratios'!E29 -> 2.3913043 | J9: ='20Ratios'!F29 -> 2.8947368 | K9: ='20Ratios'!G29 -> 0 | L9: ='20Ratios'!H29 -> 0 | M9: ='20Ratios'!I29 -> 0
E10: ='20Ratios'!D30 -> Estabilidad | I10: ='20Ratios'!E30 -> 0.43824701 | J10: ='20Ratios'!F30 -> 0.40590406 | K10: ='20Ratios'!G30 -> 0 | L10: ='20Ratios'!H30 -> 0 | M10: ='20Ratios'!I30 -> 0
E13: LIQUIDEZ | I13: =I6 -> 2020 | J13: =J6 -> 2019 | K13: =K6 -> 2018 | L13: =L6 -> 2017 | M13: =M6 -> 2016
E15: ='20Ratios'!D18 -> Liquidez | I15: ='20Ratios'!E18 -> 2.7407407 | J15: ='20Ratios'!F18 -> 2.9876543 | K15: ='20Ratios'!G18 -> 0 | L15: ='20Ratios'!H18 -> 0 | M15: ='20Ratios'!I18 -> 0
E16: ='20Ratios'!D19 -> Tesorería (Acid Test) | I16: ='20Ratios'!E19 -> 2.345679 | J16: ='20Ratios'!F19 -> 2.5925926 | K16: ='20Ratios'!G19 -> 0 | L16: ='20Ratios'!H19 -> 0 | M16: ='20Ratios'!I19 -> 0
E17: ='20Ratios'!D20 -> Disponibilidad | I17: ='20Ratios'!E20 -> 0.37037037 | J17: ='20Ratios'!F20 -> 0.37037037 | K17: ='20Ratios'!G20 -> 0 | L17: ='20Ratios'!H20 -> 0 | M17: ='20Ratios'!I20 -> 0
E20: ENDEUDAMIENTO | I20: =I13 -> 2020 | J20: =J13 -> 2019 | K20: =K13 -> 2018 | L20: =L13 -> 2017 | M20: =M13 -> 2016
E22: ='20Ratios'!D23 -> Endeudamiento | I22: ='20Ratios'!E23 -> 0.6195122 | J22: ='20Ratios'!F23 -> 0.51072961 | K22: ='20Ratios'!G23 -> 0 | L22: ='20Ratios'!H23 -> 0 | M22: ='20Ratios'!I23 -> 0
E23: ='20Ratios'!D24 -> Endeud. Corto Plazo | I23: ='20Ratios'!E24 -> 0.39512195 | J23: ='20Ratios'!F24 -> 0.34763948 | K23: ='20Ratios'!G24 -> 0 | L23: ='20Ratios'!H24 -> 0 | M23: ='20Ratios'!I24 -> 0
E26: RENTABILIDAD | I26: =I13 -> 2020 | J26: =J13 -> 2019 | K26: =K13 -> 2018 | L26: =L13 -> 2017 | M26: =M13 -> 2016
E28: ='20Ratios'!D7 -> Rentabilidad Financiera | I28: ='20Ratios'!E7 -> 0.24390244 | J28: ='20Ratios'!F7 -> 0.17167382 | K28: ='20Ratios'!G7 -> 0 | L28: ='20Ratios'!H7 -> 0 | M28: ='20Ratios'!I7 -> 0
E29: ='20Ratios'!D8 -> Rentabilidad Económica | I29: ='20Ratios'!E8 -> 0.15060241 | J29: ='20Ratios'!F8 -> 0.11363636 | K29: ='20Ratios'!G8 -> 0 | L29: ='20Ratios'!H8 -> 0 | M29: ='20Ratios'!I8 -> 0
E30: ='20Ratios'!D9 -> Rentabilidad del Capital | I30: ='20Ratios'!E9 -> 0.56179775 | J30: ='20Ratios'!F9 -> 0.34188034 | K30: ='20Ratios'!G9 -> 0 | L30: ='20Ratios'!H9 -> 0 | M30: ='20Ratios'!I9 -> 0
E31: ='20Ratios'!D10 -> Rentabilidad de las Ventas | I31: ='20Ratios'!E10 -> 0.71428571 | J31: ='20Ratios'!F10 -> 0.66666667 | K31: ='20Ratios'!G10 -> 0 | L31: ='20Ratios'!H10 -> 0 | M31: ='20Ratios'!I10 -> 0
E34: FONDO de MANIOBRA | I34: =I26 -> 2020 | J34: =J26 -> 2019 | K34: =K26 -> 2018 | L34: =L26 -> 2017 | M34: =M26 -> 2016
E36: ='20Ratios'!D13 -> Fondo de Maniobra | I36: ='20Ratios'!E13 -> 705000 | J36: ='20Ratios'!F13 -> 805000 | K36: ='20Ratios'!G13 -> 0 | L36: ='20Ratios'!H13 -> 0 | M36: ='20Ratios'!I13 -> 0
E37: ='20Ratios'!D14 -> Ratio Fondo Maniobra | I37: ='20Ratios'!E14 -> 1.7407407 | J37: ='20Ratios'!F14 -> 1.9876543 | K37: ='20Ratios'!G14 -> 0 | L37: ='20Ratios'!H14 -> 0 | M37: ='20Ratios'!I14 -> 0
E38: ='20Ratios'!D15 -> Ratio FdM en días | I38: ='20Ratios'!E15 -> 725.14286 | J38: ='20Ratios'!F15 -> 966 | K38: ='20Ratios'!G15 -> 0 | L38: ='20Ratios'!H15 -> 0 | M38: ='20Ratios'!I15 -> 0
E41: ROTACIÓN ACTIVOS | I41: =I26 -> 2020 | J41: =J26 -> 2019 | K41: =K26 -> 2018 | L41: =L26 -> 2017 | M41: =M26 -> 2016
E43: ='20Ratios'!D33 -> Rotación activo | I43: ='20Ratios'!E33 -> 0.21084337 | J43: ='20Ratios'!F33 -> 0.17045455 | K43: ='20Ratios'!G33 -> 0 | L43: ='20Ratios'!H33 -> 0 | M43: ='20Ratios'!I33 -> 0
E44: ='20Ratios'!D34 -> Rotación activo fijo | I44: ='20Ratios'!E34 -> 0.63636364 | J44: ='20Ratios'!F34 -> 0.54545455 | K44: ='20Ratios'!G34 -> 0 | L44: ='20Ratios'!H34 -> 0 | M44: ='20Ratios'!I34 -> 0
E45: ='20Ratios'!D35 -> Días cobro clientes | I45: ='20Ratios'!E35 -> 154.28571 | J45: ='20Ratios'!F35 -> 180 | K45: ='20Ratios'!G35 -> 0 | L45: ='20Ratios'!H35 -> 0 | M45: ='20Ratios'!I35 -> 0
E46: ='20Ratios'!D36 -> Días pago proveedores | I46: ='20Ratios'!E36 -> 270 | J46: ='20Ratios'!F36 -> 270 | K46: ='20Ratios'!G36 -> 0 | L46: ='20Ratios'!H36 -> 0 | M46: ='20Ratios'!I36 -> 0

Sheet SB
C2: LISTAS DESPLEGABLES
J4: balance
D5: inmovilizado | F5: circulante | H5: patrimonion | J5: =+INICIO!J5 -> 2020
D6: Inmovilizado | F6: Existencias | H6: Capital | J6: =+DATOS!I5 -> 2019
D7: Inversiones | F7: Clientes | H7: Otros FP | J7: =+DATOS!J5 -> 2018
D8: Impuestos diferidos | F8: Otras ctas. cobrar | H8: Ajustes | J8: =+DATOS!K5 -> 2017
F9: Inversiones | J9: =+DATOS!L5 -> 2016
F10: Periodificaciones
F11: Efectivo y otros liq.
D17: pasivocorriente | F17: pasivoNOcorriente
D18: Provisiones | F18: Provisiones | H18: =+TODAY() -> 45936
D19: Préstamos corto pl. | F19: Préstamos largo pl.
D20: Otras deudas corto | F20: Otras deudas
D21: Proveedores | F21: Peridificaciones-i.d.
D22: Otras cuentas pagar
D23: Periodificaciones
H39: =+YEAR(H18) -> 2025
